BEGIN:VCALENDAR
VERSION:2.0
METHOD:PUBLISH
PRODID:-//Agenda.ad//NONSGML v1.0//EN
BEGIN:VEVENT
CLASS:PUBLIC
UID:abfbbbe16ac868221417fb313cdcbd46@agenda.ad
DTSTAMP:20260424T095632Z
DTSTART:20200218T230000Z
DTEND:20200218T230000Z
SUMMARY:<span><span>'Science Comedy Show'</span>&nbsp;&middot; Saison Culturelle</span>
DESCRIPTION:\n\nMés informació\nhttps://www.agenda.ad/activitat/andorr
 a-la-vella/mes-cultura/science-comedy-show -saison-culturel
 le\n\n\nOrganitza\nAmbaixada de França a Andorra
LOCATION:Teatre Comunal
SEQUENCE:0
TRANSP:OPAQUE
X-ALT-DESC;FMTTYPE=text/html:<!DOCTYPE HTML PUBLIC "-//W3C//DTD HTML 3.2//EN"><HTML><HEAD
 ><TITLE></TITLE></HEAD><BODY><FONT FACE="Arial" SIZE=2><br/>
 <br/><b>Més informació</b><br/><a href="https://www.agenda
 .ad/activitat/andorra-la-vella/mes-cultura/science-comedy-sh
 ow -saison-culturelle">https://www.agenda.ad/activitat/ando
 rra-la-vella/mes-cultura/science-comedy-show -saison-cultur
 elle</a><br/><br/><br/><b>Organitza</b><br/>Ambaixada de Fra
 nça a Andorra</FONT></BODY></HTML>
END:VEVENT
END:VCALENDAR